BEGIN:VCALENDAR
VERSION:2.0
PRODID:icalendar-ruby
CALSCALE:GREGORIAN
METHOD:PUBLISH
BEGIN:VEVENT
DTSTAMP:20260423T072208Z
UID:5-403878@drivingdisciples.org
DTSTART:20261018T170000Z
DTEND:20261018T180000Z
CLASS:PUBLIC
CREATED:20260422T190144
DESCRIPTION:Sunday Worship
LAST-MODIFIED:20260422T190144
LOCATION:
SUMMARY:Sunday Worship
URL;VALUE=URI:https://drivingdisciples.org/events/sunday-worship/2026-10-18
END:VEVENT
END:VCALENDAR
